BEGIN:VCALENDAR
VERSION:2.0
PRODID:-//Tukios.com/
BEGIN:VEVENT
UID:0e13eb49-1d9a-4357-a45d-b8e3ed24beed@www.springervoorhisdraper.com
DTSTAMP:20260423T084455Z
DTSTART:20260228T150000Z
DTEND:20260228T160000Z
SUMMARY:Visitation
DESCRIPTION:
URL:https://www.springervoorhisdraper.com/obituaries/terry-maxfiele
LOCATION: 202 S Illinois St  Monticello IN 47960
GEO:40.7435205;-86.7643802
END:VEVENT
END:VCALENDAR