BEGIN:VCALENDAR
VERSION:2.0
PRODID:-//Tukios.com/
BEGIN:VEVENT
UID:27e49ed2-56c1-435e-97c1-cd1cc9ff2683@www.springervoorhisdraper.com
DTSTAMP:20260419T131904Z
DTSTART:20260228T160000Z
DTEND:20260228T170000Z
SUMMARY:Memorial Service
DESCRIPTION:
URL:https://www.springervoorhisdraper.com/obituaries/terry-maxfiele
LOCATION:Springer-Voorhis-Draper Funeral Home 202 South Illinois  
	Monticello IN 47960
GEO:40.7435205;-86.7643802
END:VEVENT
END:VCALENDAR