BEGIN:VCALENDAR
VERSION:2.0
PRODID:-//Tukios.com/
BEGIN:VEVENT
UID:f75d429e-417e-4d8a-97e9-ea816d226c0f@www.springervoorhisdraper.com
DTSTAMP:20260421T194315Z
DTSTART:20260423T170000Z
DTEND:20260423T180000Z
SUMMARY:Funeral Service
DESCRIPTION:
URL:https://www.springervoorhisdraper.com/obituaries/james-ward
LOCATION: 202 S Illinois St  Monticello IN 47960
GEO:40.7435205;-86.7643802
END:VEVENT
END:VCALENDAR