BEGIN:VCALENDAR
VERSION:2.0
PRODID:-//Tukios.com/
BEGIN:VEVENT
UID:7d115882-e781-4c12-821f-60f31da858b8@www.springervoorhisdraper.com
DTSTAMP:20260421T194439Z
DTSTART:20260423T150000Z
DTEND:20260423T170000Z
SUMMARY:Visitation
DESCRIPTION:
URL:https://www.springervoorhisdraper.com/obituaries/james-ward
LOCATION:Springer-Voorhis-Draper Funeral Home 202 South Illinois  
	Monticello IN 47960
GEO:40.7435205;-86.7643802
END:VEVENT
END:VCALENDAR